BEGIN:VCALENDAR
VERSION:2.0
PRODID:SchoolNow
CALSCALE:GREGORIAN
BEGIN:VEVENT
UID:9656b7e0-b757-11ec-976a-0206e0dfb3bf
DTSTAMP:20220408T161855Z
SUMMARY:CTE National Technical Honor Society Inductions
LOCATION:Abrookin Career and Technical Center
URL;VALUE=URI:https://www.albanyschools.org/schools/albanyhigh/calendar/316
 3588/cte-national-technical-honor-society-inductions
DTSTART:20220520T223000Z
DTEND:20220520T233000Z
END:VEVENT
END:VCALENDAR
