BEGIN:VCALENDAR
VERSION:2.0
PRODID:SchoolNow
CALSCALE:GREGORIAN
BEGIN:VEVENT
UID:bbd417e2-b757-11ec-b9d5-02bb00f4f53f
DTSTAMP:20220408T161958Z
SUMMARY:Chinese/French/Spanish National Honor Society Inductions
LOCATION:Annex Gym
URL;VALUE=URI:https://www.albanyschools.org/schools/albanyhigh/calendar/316
 3589/chinese-french-spanish-national-honor-society-inductions
DTSTART:20220525T220000Z
DTEND:20220525T230000Z
END:VEVENT
END:VCALENDAR
