BEGIN:VCALENDAR
VERSION:2.0
PRODID:SchoolNow
CALSCALE:GREGORIAN
BEGIN:VEVENT
UID:d6a0dd1c-b757-11ec-ae9e-0e6d12a1dbcd
DTSTAMP:20220408T162043Z
SUMMARY:SAT exam
URL;VALUE=URI:https://www.albanyschools.org/schools/albanyhigh/calendar/316
 3590/sat-exam
DTSTART:20220604T120000Z
DTEND:20220604T130000Z
END:VEVENT
END:VCALENDAR
