BEGIN:VCALENDAR
VERSION:2.0
PRODID:SchoolNow
CALSCALE:GREGORIAN
BEGIN:VEVENT
UID:fa7ba3c0-b757-11ec-b9e3-0a470fba708f
DTSTAMP:20220603T134906Z
SUMMARY:Junior Prom
LOCATION:Washington Park Lake House
URL;VALUE=URI:https://www.albanyschools.org/schools/albanyhigh/calendar/316
 3591/junior-prom
DTSTART:20220604T230000Z
DTEND:20220605T000000Z
END:VEVENT
END:VCALENDAR
