BEGIN:VCALENDAR
VERSION:2.0
PRODID:SchoolNow
CALSCALE:GREGORIAN
BEGIN:VEVENT
UID:b2c85824-b758-11ec-8a28-0e6d12a1dbcd
DTSTAMP:20220530T235139Z
SUMMARY:JROTC Promotion/Leadership Awards Night
LOCATION:Zaloga American Legion Post
URL;VALUE=URI:https://www.albanyschools.org/schools/albanyhigh/calendar/316
 3592/jrotc-promotion-leadership-awards-night
DTSTART:20220609T220000Z
DTEND:20220610T000000Z
END:VEVENT
END:VCALENDAR
