BEGIN:VCALENDAR
VERSION:2.0
PRODID:SchoolNow
CALSCALE:GREGORIAN
BEGIN:VEVENT
UID:c9367d6a-b9b6-11ec-badb-02fb785c87d3
DTSTAMP:20220411T164525Z
SUMMARY:Chamber Concert
LOCATION:Stephen and Harriet Myers Middle School
URL;VALUE=URI:https://www.albanyschools.org/schools/albanyhigh/calendar/316
 5488/chamber-concert
DTSTART:20220413T223000Z
DTEND:20220413T233000Z
END:VEVENT
END:VCALENDAR
