BEGIN:VCALENDAR
VERSION:2.0
PRODID:SchoolNow
CALSCALE:GREGORIAN
BEGIN:VEVENT
UID:2bb3f9aa-d5ea-11ec-a8df-0a9be289f199
DTSTAMP:20220517T140347Z
SUMMARY:AHS Art Show
URL;VALUE=URI:https://www.albanyschools.org/schools/albanyhigh/calendar/320
 0211/ahs-art-show
DTSTART:20220517T190000Z
DTEND:20220517T210000Z
END:VEVENT
END:VCALENDAR
