BEGIN:VCALENDAR
VERSION:2.0
PRODID:SchoolNow
CALSCALE:GREGORIAN
BEGIN:VEVENT
UID:11966156-d78f-11ec-8a8c-02ede98a62a7
DTSTAMP:20220815T142043Z
SUMMARY:High school winter sports begin
URL;VALUE=URI:https://www.albanyschools.org/schools/albanyhigh/calendar/320
 1925/high-school-winter-sports-begin
DTSTART;VALUE=DATE:20221114
DTEND;VALUE=DATE:20221115
END:VEVENT
END:VCALENDAR
