BEGIN:VCALENDAR
VERSION:2.0
PRODID:SchoolNow
CALSCALE:GREGORIAN
BEGIN:VEVENT
UID:dfa8ac6e-d854-11ec-934e-0efd9965ef2f
DTSTAMP:20220520T155238Z
SUMMARY:Promising Playwrights Festival
LOCATION:Capital Repertory Theater\, 251 North Pearl St.
URL;VALUE=URI:https://www.albanyschools.org/schools/albanyhigh/calendar/320
 3284/promising-playwrights-festival
DTSTART:20220520T230000Z
DTEND:20220521T000000Z
END:VEVENT
END:VCALENDAR
