BEGIN:VCALENDAR
VERSION:2.0
PRODID:SchoolNow
CALSCALE:GREGORIAN
BEGIN:VEVENT
UID:e8af4462-d854-11ec-95b8-0efd9965ef2f
DTSTAMP:20220520T155306Z
SUMMARY:Promising Playwrights Festival
LOCATION:Capital Repertory Theater\, 251 North Pearl St.
URL;VALUE=URI:https://www.albanyschools.org/schools/albanyhigh/calendar/320
 3285/promising-playwrights-festival
DTSTART:20220521T230000Z
DTEND:20220522T000000Z
END:VEVENT
END:VCALENDAR
