BEGIN:VCALENDAR
VERSION:2.0
PRODID:SchoolNow
CALSCALE:GREGORIAN
BEGIN:VEVENT
UID:fa208418-d854-11ec-8fa1-0efd9965ef2f
DTSTAMP:20220520T155322Z
SUMMARY:Promising Playwrights Festival
LOCATION:Capital Repertory Theater\, 251 North Pearl St.
URL;VALUE=URI:https://www.albanyschools.org/schools/albanyhigh/calendar/320
 3286/promising-playwrights-festival
DTSTART:20220522T180000Z
DTEND:20220522T190000Z
END:VEVENT
END:VCALENDAR
