BEGIN:VCALENDAR
VERSION:2.0
PRODID:SchoolNow
CALSCALE:GREGORIAN
BEGIN:VEVENT
UID:45590f1a-e073-11ec-95b6-0e033e9c1dff
DTSTAMP:20220530T235023Z
SUMMARY:Dance recital
LOCATION:Thomas O'Brien Academy of Science and Technology\, Lincoln Park
URL;VALUE=URI:https://www.albanyschools.org/schools/albanyhigh/calendar/320
 8303/dance-recital
DTSTART:20220602T223000Z
DTEND:20220602T233000Z
END:VEVENT
END:VCALENDAR
