BEGIN:VCALENDAR
VERSION:2.0
PRODID:SchoolNow
CALSCALE:GREGORIAN
BEGIN:VEVENT
UID:8c55437a-e073-11ec-9804-0e033e9c1dff
DTSTAMP:20220530T235222Z
SUMMARY:Junior-Senior Awards Night
URL;VALUE=URI:https://www.albanyschools.org/schools/albanyhigh/calendar/320
 8304/junior-senior-awards-night
DTSTART:20220530T220000Z
DTEND:20220530T230000Z
END:VEVENT
END:VCALENDAR
