BEGIN:VCALENDAR
VERSION:2.0
PRODID:SchoolNow
CALSCALE:GREGORIAN
BEGIN:VEVENT
UID:ce7d52da-e076-11ec-9f6c-0ab3960fe68f
DTSTAMP:20220603T135056Z
SUMMARY:Junior-Senior Awards Night
LOCATION:Myers Middle School
URL;VALUE=URI:https://www.albanyschools.org/schools/albanyhigh/calendar/320
 8307/junior-senior-awards-night
DTSTART:20220608T220000Z
DTEND:20220608T230000Z
END:VEVENT
END:VCALENDAR
