BEGIN:VCALENDAR
VERSION:2.0
PRODID:SchoolNow
CALSCALE:GREGORIAN
BEGIN:VEVENT
UID:68305742-e077-11ec-a869-0ab3960fe68f
DTSTAMP:20220531T001959Z
SUMMARY:Freshmen Field Day
URL;VALUE=URI:https://www.albanyschools.org/schools/albanyhigh/calendar/320
 8308/freshmen-field-day
DTSTART:20220613T132600Z
DTEND:20220613T145300Z
END:VEVENT
END:VCALENDAR
