BEGIN:VCALENDAR
VERSION:2.0
PRODID:SchoolNow
CALSCALE:GREGORIAN
BEGIN:VEVENT
UID:95a30120-e077-11ec-b2fa-0ab3960fe68f
DTSTAMP:20220531T002115Z
SUMMARY:Sophomore-Junior Field Day
URL;VALUE=URI:https://www.albanyschools.org/schools/albanyhigh/calendar/320
 8309/sophomore-junior-field-day
DTSTART:20220613T180000Z
DTEND:20220613T193000Z
END:VEVENT
END:VCALENDAR
