BEGIN:VCALENDAR
VERSION:2.0
PRODID:SchoolNow
CALSCALE:GREGORIAN
BEGIN:VEVENT
UID:f7d14ed4-e2bf-11ec-8bdd-0aca6eca568d
DTSTAMP:20220602T220513Z
SUMMARY:Graduation cap\, gown and ticket distribution
URL;VALUE=URI:https://www.albanyschools.org/schools/albanyhigh/calendar/321
 0910/graduation-cap-gown-and-ticket-distribution
DTSTART:20220613T140300Z
DTEND:20220613T150300Z
END:VEVENT
END:VCALENDAR
