BEGIN:VCALENDAR
VERSION:2.0
PRODID:SchoolNow
CALSCALE:GREGORIAN
BEGIN:VEVENT
UID:84b4d318-e750-11ec-a756-0a6dcd18b0af
DTSTAMP:20220608T172915Z
SUMMARY:Last day of classes
URL;VALUE=URI:https://www.albanyschools.org/schools/albanyhigh/calendar/321
 4632/last-day-of-classes
DTSTART:20220614T123000Z
DTEND:20220614T193000Z
END:VEVENT
END:VCALENDAR
