BEGIN:VCALENDAR
VERSION:2.0
PRODID:SchoolNow
CALSCALE:GREGORIAN
BEGIN:VEVENT
UID:85177e0a-eb33-11ec-b6cf-02d5e7e31a7d
DTSTAMP:20220613T191556Z
SUMMARY:PTSA meeting (virtual)
URL;VALUE=URI:https://www.albanyschools.org/schools/albanyhigh/calendar/321
 8276/ptsa-meeting-virtual
DTSTART:20220615T213000Z
DTEND:20220615T223000Z
END:VEVENT
END:VCALENDAR
