BEGIN:VCALENDAR
VERSION:2.0
PRODID:SchoolNow
CALSCALE:GREGORIAN
BEGIN:VEVENT
UID:360bbe26-fc62-11ec-b1ed-02821c5349db
DTSTAMP:20220815T142016Z
SUMMARY:Albany High football begins
URL;VALUE=URI:https://www.albanyschools.org/schools/albanyhigh/calendar/323
 7096/albany-high-school-football-begins
DTSTART;VALUE=DATE:20220820
DTEND;VALUE=DATE:20220821
END:VEVENT
END:VCALENDAR
