BEGIN:VCALENDAR
VERSION:2.0
PRODID:SchoolNow
CALSCALE:GREGORIAN
BEGIN:VEVENT
UID:5fcb730a-09e6-11ed-81a8-0e105653f9d1
DTSTAMP:20220722T174737Z
SUMMARY:Senior portraits
URL;VALUE=URI:https://www.albanyschools.org/schools/albanyhigh/calendar/325
 1996/senior-portraits
DTSTART:20220725T174600Z
DTEND:20220728T184600Z
END:VEVENT
END:VCALENDAR
