BEGIN:VCALENDAR
VERSION:2.0
PRODID:SchoolNow
CALSCALE:GREGORIAN
BEGIN:VEVENT
UID:330b91e6-11da-11ed-9bda-0ee8aeca609f
DTSTAMP:20220801T204037Z
SUMMARY:Summer Graduation
LOCATION:Stephen and Harriet Myers Middle School
URL;VALUE=URI:https://www.albanyschools.org/schools/albanyhigh/calendar/326
 3378/summer-graduation
DTSTART:20220819T140000Z
DTEND:20220819T150000Z
END:VEVENT
END:VCALENDAR
