BEGIN:VCALENDAR
VERSION:2.0
PRODID:SchoolNow
CALSCALE:GREGORIAN
BEGIN:VEVENT
UID:fe96b484-17fd-11ed-bf3a-02d025cb5fd7
DTSTAMP:20220829T194111Z
SUMMARY:First days of school: Albany High
DESCRIPTION:View event details for a look at which grades attend which day 
 on Thursday 9/1 and Friday 9/2.
URL;VALUE=URI:https://www.albanyschools.org/schools/albanyhigh/calendar/327
 4767/first-days-of-school-albany-high
DTSTART;VALUE=DATE:20220901
DTEND;VALUE=DATE:20220903
END:VEVENT
END:VCALENDAR
