BEGIN:VCALENDAR
VERSION:2.0
PRODID:SchoolNow
CALSCALE:GREGORIAN
BEGIN:VEVENT
UID:8350c5e6-1ca1-11ed-b97e-02013ad6b03f
DTSTAMP:20220815T135233Z
SUMMARY:SECONDARY MARKING PERIOD (11/10)
URL;VALUE=URI:https://www.albanyschools.org/schools/albanyhigh/calendar/328
 2159/secondary-marking-period-11-10
DTSTART;VALUE=DATE:20221110
DTEND;VALUE=DATE:20221111
END:VEVENT
END:VCALENDAR
