BEGIN:VCALENDAR
VERSION:2.0
PRODID:SchoolNow
CALSCALE:GREGORIAN
BEGIN:VEVENT
UID:87c972a8-1ca1-11ed-a48d-02013ad6b03f
DTSTAMP:20220815T135241Z
SUMMARY:SECONDARY MARKING PERIOD (12/16)
URL;VALUE=URI:https://www.albanyschools.org/schools/albanyhigh/calendar/328
 2160/secondary-marking-period-12-16
DTSTART;VALUE=DATE:20221216
DTEND;VALUE=DATE:20221217
END:VEVENT
END:VCALENDAR
