BEGIN:VCALENDAR
VERSION:2.0
PRODID:SchoolNow
CALSCALE:GREGORIAN
BEGIN:VEVENT
UID:fc2e3614-1ca2-11ed-a249-0298f1c1417d
DTSTAMP:20221115T210134Z
SUMMARY:Albany High 2023-24 academy lottery app deadline
URL;VALUE=URI:https://www.albanyschools.org/schools/albanyhigh/calendar/328
 2231/albany-high-2023-24-academy-lottery-app-deadline
DTSTART;VALUE=DATE:20221122
DTEND;VALUE=DATE:20221123
END:VEVENT
END:VCALENDAR
