BEGIN:VCALENDAR
VERSION:2.0
PRODID:SchoolNow
CALSCALE:GREGORIAN
BEGIN:VEVENT
UID:2beca764-1ca3-11ed-9bc4-0298f1c1417d
DTSTAMP:20220815T140426Z
SUMMARY:SAT exam (10/1)
URL;VALUE=URI:https://www.albanyschools.org/schools/albanyhigh/calendar/328
 2239/sat-exam-10-1
DTSTART:20221001T114500Z
DTEND:20221001T124500Z
END:VEVENT
END:VCALENDAR
