BEGIN:VCALENDAR
VERSION:2.0
PRODID:SchoolNow
CALSCALE:GREGORIAN
BEGIN:VEVENT
UID:39f75980-1ca3-11ed-98d3-0298f1c1417d
DTSTAMP:20220815T140449Z
SUMMARY:SAT exam (11/5)
URL;VALUE=URI:https://www.albanyschools.org/schools/albanyhigh/calendar/328
 2240/sat-exam-11-5
DTSTART:20221105T114500Z
DTEND:20221105T124500Z
END:VEVENT
END:VCALENDAR
