BEGIN:VCALENDAR
VERSION:2.0
PRODID:SchoolNow
CALSCALE:GREGORIAN
BEGIN:VEVENT
UID:4d1f9d7e-1ca3-11ed-9ea8-0298f1c1417d
DTSTAMP:20220815T140521Z
SUMMARY:SAT exam (12/3)
URL;VALUE=URI:https://www.albanyschools.org/schools/albanyhigh/calendar/328
 2241/sat-exam-12-3
DTSTART:20221203T124500Z
DTEND:20221203T134500Z
END:VEVENT
END:VCALENDAR
