BEGIN:VCALENDAR
VERSION:2.0
PRODID:SchoolNow
CALSCALE:GREGORIAN
BEGIN:VEVENT
UID:c1e85de0-224c-11ed-9b8f-0205b8a2bfd3
DTSTAMP:20220826T153918Z
SUMMARY:Open House
URL;VALUE=URI:https://www.albanyschools.org/schools/albanyhigh/calendar/329
 5508/open-house
DTSTART:20220928T220000Z
DTEND:20220928T230000Z
END:VEVENT
END:VCALENDAR
