BEGIN:VCALENDAR
VERSION:2.0
PRODID:SchoolNow
CALSCALE:GREGORIAN
BEGIN:VEVENT
UID:e012c1d4-224c-11ed-98d5-0e0e78b9b725
DTSTAMP:20220826T154231Z
SUMMARY:PTSA meeting (virtual and in-person)
LOCATION:Library
URL;VALUE=URI:https://www.albanyschools.org/schools/albanyhigh/calendar/329
 5510/ptsa-meeting
DTSTART:20220921T213000Z
DTEND:20220921T223000Z
END:VEVENT
END:VCALENDAR
