BEGIN:VCALENDAR
VERSION:2.0
PRODID:SchoolNow
CALSCALE:GREGORIAN
BEGIN:VEVENT
UID:0352255e-224d-11ed-85d8-0205b8a2bfd3
DTSTAMP:20220929T175417Z
SUMMARY:Homecoming Tailgate Party
URL;VALUE=URI:https://www.albanyschools.org/schools/albanyhigh/calendar/329
 5511/homecoming-tailgate-party
DTSTART:20221015T143000Z
DTEND:20221015T163000Z
END:VEVENT
END:VCALENDAR
