BEGIN:VCALENDAR
VERSION:2.0
PRODID:SchoolNow
CALSCALE:GREGORIAN
BEGIN:VEVENT
UID:663ea02c-2313-11ed-a4fa-0ae83b68a427
DTSTAMP:20220823T184254Z
SUMMARY:Homecoming Dance
URL;VALUE=URI:https://www.albanyschools.org/schools/albanyhigh/calendar/329
 8108/homecoming-dance
DTSTART:20221015T230000Z
DTEND:20221016T020000Z
END:VEVENT
END:VCALENDAR
