BEGIN:VCALENDAR
VERSION:2.0
PRODID:SchoolNow
CALSCALE:GREGORIAN
BEGIN:VEVENT
UID:ecefc806-27c0-11ed-b1f7-02e2f5000281
DTSTAMP:20220829T173508Z
SUMMARY:PTSA meeting (virtual and in-person)
LOCATION:Library
URL;VALUE=URI:https://www.albanyschools.org/schools/albanyhigh/calendar/331
 3328/ptsa-meeting-virtual-and-in-person
DTSTART:20221019T213000Z
DTEND:20221019T223000Z
END:VEVENT
END:VCALENDAR
