BEGIN:VCALENDAR
VERSION:2.0
PRODID:SchoolNow
CALSCALE:GREGORIAN
BEGIN:VEVENT
UID:fd642272-27c0-11ed-9c52-0e6477b8fa1f
DTSTAMP:20220829T173535Z
SUMMARY:PTSA meeting (virtual and in-person)
LOCATION:Library
URL;VALUE=URI:https://www.albanyschools.org/schools/albanyhigh/calendar/331
 3329/ptsa-meeting-virtual-and-in-person
DTSTART:20221116T223000Z
DTEND:20221116T233000Z
END:VEVENT
END:VCALENDAR
