BEGIN:VCALENDAR
VERSION:2.0
PRODID:SchoolNow
CALSCALE:GREGORIAN
BEGIN:VEVENT
UID:4da37480-2862-11ed-98ff-0a9937bf55a3
DTSTAMP:20220830T125019Z
SUMMARY:Blood drive
URL;VALUE=URI:https://www.albanyschools.org/schools/albanyhigh/calendar/331
 6872/blood-drive
DTSTART;VALUE=DATE:20221130
DTEND;VALUE=DATE:20221201
END:VEVENT
END:VCALENDAR
