BEGIN:VCALENDAR
VERSION:2.0
PRODID:SchoolNow
CALSCALE:GREGORIAN
BEGIN:VEVENT
UID:62fc2926-2862-11ed-a435-0220ae82bcc5
DTSTAMP:20230123T142521Z
SUMMARY:Community blood drive
LOCATION:Albany High School library
URL;VALUE=URI:https://www.albanyschools.org/schools/albanyhigh/calendar/331
 6873/blood-drive
DTSTART;VALUE=DATE:20230126
DTEND;VALUE=DATE:20230127
END:VEVENT
END:VCALENDAR
