BEGIN:VCALENDAR
VERSION:2.0
PRODID:SchoolNow
CALSCALE:GREGORIAN
BEGIN:VEVENT
UID:b2732934-3463-11ed-a8d3-02bd9e12bc99
DTSTAMP:20220915T154417Z
SUMMARY:Rebuilding Albany High School Ribbon Cutting & Tour
URL;VALUE=URI:https://www.albanyschools.org/schools/albanyhigh/calendar/339
 1842/rebuilding-albany-high-school-ribbon-cutting-tour
DTSTART:20221013T213000Z
DTEND:20221013T230000Z
END:VEVENT
END:VCALENDAR
