BEGIN:VCALENDAR
VERSION:2.0
PRODID:SchoolNow
CALSCALE:GREGORIAN
BEGIN:VEVENT
UID:77d4e4fe-40e1-11ed-a041-027220d41297
DTSTAMP:20220930T170214Z
SUMMARY:School pictures for grades 9-11
URL;VALUE=URI:https://www.albanyschools.org/schools/albanyhigh/calendar/346
 4983/school-pictures-for-grades-9-11
DTSTART;VALUE=DATE:20221106
DTEND;VALUE=DATE:20221111
END:VEVENT
END:VCALENDAR
