BEGIN:VCALENDAR
VERSION:2.0
PRODID:SchoolNow
CALSCALE:GREGORIAN
BEGIN:VEVENT
UID:5badee5c-4fd1-11ed-bbb2-0e8ef110d8a5
DTSTAMP:20221019T171332Z
SUMMARY:Chamber Concert
URL;VALUE=URI:https://www.albanyschools.org/schools/albanyhigh/calendar/354
 0686/chamber-concert
DTSTART:20221109T233000Z
DTEND:20221110T003000Z
END:VEVENT
END:VCALENDAR
