BEGIN:VCALENDAR
VERSION:2.0
PRODID:SchoolNow
CALSCALE:GREGORIAN
BEGIN:VEVENT
UID:8aa9ec88-4fd1-11ed-8696-0ad44ea0d653
DTSTAMP:20221114T185020Z
SUMMARY:Winter Concert
URL;VALUE=URI:https://www.albanyschools.org/schools/albanyhigh/calendar/354
 0687/winter-concert
DTSTART:20221207T233000Z
DTEND:20221208T003000Z
END:VEVENT
END:VCALENDAR
