BEGIN:VCALENDAR
VERSION:2.0
PRODID:SchoolNow
CALSCALE:GREGORIAN
BEGIN:VEVENT
UID:a84c0fc8-4fd1-11ed-9db3-0a1761be6beb
DTSTAMP:20221114T185036Z
SUMMARY:Winter concert
URL;VALUE=URI:https://www.albanyschools.org/schools/albanyhigh/calendar/354
 0688/winter-concert
DTSTART:20221214T233000Z
DTEND:20221215T003000Z
END:VEVENT
END:VCALENDAR
