BEGIN:VCALENDAR
VERSION:2.0
PRODID:SchoolNow
CALSCALE:GREGORIAN
BEGIN:VEVENT
UID:fd6da3b6-5163-11ed-a5ad-026122983f6b
DTSTAMP:20221021T171553Z
SUMMARY:School musical audition workshop
LOCATION:Room 4200 (choir room)
URL;VALUE=URI:https://www.albanyschools.org/schools/albanyhigh/calendar/354
 7351/school-musical-audition-workshop
DTSTART:20221103T194500Z
DTEND:20221103T220000Z
END:VEVENT
END:VCALENDAR
