BEGIN:VCALENDAR
VERSION:2.0
PRODID:SchoolNow
CALSCALE:GREGORIAN
BEGIN:VEVENT
UID:5b87799a-5164-11ed-9129-0a1761be6beb
DTSTAMP:20221021T171819Z
SUMMARY:School musical auditions
LOCATION:Room 4200
URL;VALUE=URI:https://www.albanyschools.org/schools/albanyhigh/calendar/354
 7352/school-musical-auditions
DTSTART:20221114T204500Z
DTEND:20221114T234500Z
END:VEVENT
END:VCALENDAR
