BEGIN:VCALENDAR
VERSION:2.0
PRODID:SchoolNow
CALSCALE:GREGORIAN
BEGIN:VEVENT
UID:63fe3ed8-5164-11ed-9abb-0a1761be6beb
DTSTAMP:20221115T201703Z
SUMMARY:School musical auditions
LOCATION:Room 4200
URL;VALUE=URI:https://www.albanyschools.org/schools/albanyhigh/calendar/354
 7353/school-musical-auditions-clone
DTSTART:20221115T230000Z
DTEND:20221116T000000Z
END:VEVENT
END:VCALENDAR
