BEGIN:VCALENDAR
VERSION:2.0
PRODID:SchoolNow
CALSCALE:GREGORIAN
BEGIN:VEVENT
UID:cbdbc0ac-5164-11ed-a664-0ab73433c03d
DTSTAMP:20221021T172127Z
SUMMARY:College aid help night
LOCATION:Library
URL;VALUE=URI:https://www.albanyschools.org/schools/albanyhigh/calendar/354
 7354/college-aid-help-night
DTSTART:20221110T210000Z
DTEND:20221111T000000Z
END:VEVENT
END:VCALENDAR
