BEGIN:VCALENDAR
VERSION:2.0
PRODID:SchoolNow
CALSCALE:GREGORIAN
BEGIN:VEVENT
UID:6ae3f144-6522-11ed-a0c0-0e83444697e7
DTSTAMP:20221115T201641Z
SUMMARY:National Honor Society inductions
URL;VALUE=URI:https://www.albanyschools.org/schools/albanyhigh/calendar/361
 1335/national-honor-society-inductions
DTSTART:20221115T230000Z
DTEND:20221116T000000Z
END:VEVENT
END:VCALENDAR
