BEGIN:VCALENDAR
VERSION:2.0
PRODID:SchoolNow
CALSCALE:GREGORIAN
BEGIN:VEVENT
UID:d1d98a26-6522-11ed-91ef-02aa0d13e4a3
DTSTAMP:20221115T201934Z
SUMMARY:Open Mic Night
URL;VALUE=URI:https://www.albanyschools.org/schools/albanyhigh/calendar/361
 1336/open-mic-night
DTSTART:20221117T230000Z
DTEND:20221118T010000Z
END:VEVENT
END:VCALENDAR
