BEGIN:VCALENDAR
VERSION:2.0
PRODID:SchoolNow
CALSCALE:GREGORIAN
BEGIN:VEVENT
UID:0288588c-6523-11ed-ad0b-0a5114f83ded
DTSTAMP:20221115T202055Z
SUMMARY:Falcon Library After Dark
URL;VALUE=URI:https://www.albanyschools.org/schools/albanyhigh/calendar/361
 1337/falcon-library-after-dark
DTSTART:20221118T230000Z
DTEND:20221119T020000Z
END:VEVENT
END:VCALENDAR
