BEGIN:VCALENDAR
VERSION:2.0
PRODID:SchoolNow
CALSCALE:GREGORIAN
BEGIN:VEVENT
UID:79329204-6523-11ed-84a6-02123216bddd
DTSTAMP:20221115T202509Z
SUMMARY:College aid help night
LOCATION:Library
URL;VALUE=URI:https://www.albanyschools.org/schools/albanyhigh/calendar/361
 1339/college-aid-help-night
DTSTART:20221208T210000Z
DTEND:20221209T000000Z
END:VEVENT
END:VCALENDAR
